BEGIN:VCALENDAR
VERSION:2.0
PRODID:-//wp-events-plugin.com//7.2.3.1//EN
TZID:America/Denver
X-WR-TIMEZONE:America/Denver
BEGIN:VEVENT
UID:1532@krystal93.com
DTSTART;TZID=America/Denver;VALUE=DATE:20250605
DTEND;TZID=America/Denver;VALUE=DATE:20250606
DTSTAMP:20250602T031208Z
URL:https://krystal93.com/events/summit-country-ticket-lasso-thursdays/
SUMMARY:Summit Country Ticket Lasso Thursdays
DESCRIPTION:Listen to 93.1 Summit Country every Thursday morning for your c
 hance to win great tickets! In June we have tickets to see Old Dominion at
  Fiddler's Green. Win all month long every Thursday!
CATEGORIES:Tickets giveaway
END:VEVENT
BEGIN:VTIMEZONE
TZID:America/Denver
X-LIC-LOCATION:America/Denver
BEGIN:DAYLIGHT
DTSTART:20250309T030000
TZOFFSETFROM:-0700
TZOFFSETTO:-0600
TZNAME:MDT
END:DAYLIGHT
END:VTIMEZONE
END:VCALENDAR