BEGIN:VCALENDAR
VERSION:2.0
PRODID:-//wp-events-plugin.com//7.2.3.1//EN
TZID:America/Denver
X-WR-TIMEZONE:America/Denver
BEGIN:VEVENT
UID:923@krystal93.com
DTSTART;TZID=America/Denver:20240314T120000
DTEND;TZID=America/Denver:20240314T130000
DTSTAMP:20240301T043359Z
URL:https://krystal93.com/events/summit-country-zach-bryan-sierra-ferrell/
SUMMARY:Summit Country - Zach Bryan + Sierra Ferrell Tickets
DESCRIPTION:93.1 Summit Country kicks off Ticket Lasso Thursdays. Every two
  weeks we'll be giving away big name tickets\, so our first big giveaway i
 s March 14 over the noon hour. We're starting out with Zach Bryan and Sier
 ra Ferrell at Empower Field on June 14.\n
END:VEVENT
BEGIN:VTIMEZONE
TZID:America/Denver
X-LIC-LOCATION:America/Denver
BEGIN:DAYLIGHT
DTSTART:20240310T030000
TZOFFSETFROM:-0700
TZOFFSETTO:-0600
TZNAME:MDT
END:DAYLIGHT
END:VTIMEZONE
END:VCALENDAR