BEGIN:VCALENDAR
VERSION:2.0
PRODID:-//wp-events-plugin.com//7.2.3.1//EN
TZID:America/Denver
X-WR-TIMEZONE:America/Denver
BEGIN:VEVENT
UID:1191@krystal93.com
DTSTART;TZID=America/Denver:20241012T000000
DTEND;TZID=America/Denver:20241012T000000
DTSTAMP:20240929T221330Z
URL:https://krystal93.com/events/summit-county-preschools-annual-comedy-ni
 ght-fundraiser/
SUMMARY:Summit County Preschool's Annual Comedy Night Fundraiser
DESCRIPTION:Join us in 2 weeks for Summit County Preschool's Annual Comedy 
 Night Fundraiser! This will be held Saturday\, Oct. 12th at 6 pm at the Se
 nior Center in Frisco. Tickets include dinner and comedy show by comedian 
 Kate Mclachlan. We look forward to seeing you there for a night of fun\, l
 aughter and support for our community.
CATEGORIES:Fundraiser
LOCATION:Senior Center\, 83 Nancy's Place\, Frisco\, CO\, 80443\, United St
 ates
X-APPLE-STRUCTURED-LOCATION;VALUE=URI;X-ADDRESS=83 Nancy's Place\, Frisco\,
  CO\, 80443\, United States;X-APPLE-RADIUS=100;X-TITLE=Senior Center:geo:0
 ,0
END:VEVENT
BEGIN:VTIMEZONE
TZID:America/Denver
X-LIC-LOCATION:America/Denver
BEGIN:DAYLIGHT
DTSTART:20240310T030000
TZOFFSETFROM:-0700
TZOFFSETTO:-0600
TZNAME:MDT
END:DAYLIGHT
END:VTIMEZONE
END:VCALENDAR