BEGIN:VCALENDAR
VERSION:2.0
PRODID:-//wp-events-plugin.com//7.2.3.1//EN
TZID:America/Denver
X-WR-TIMEZONE:America/Denver
BEGIN:VEVENT
UID:1561@krystal93.com
DTSTART;TZID=America/Denver:20250712T110000
DTEND;TZID=America/Denver:20250712T140000
DTSTAMP:20250702T004446Z
URL:https://krystal93.com/events/summit-rotarys-50th-anniversary/
SUMMARY:Summit Rotary's 50th Anniversary
DESCRIPTION:Join Summit Rotary for its 50th Anniversary celebration July 12
 th from 11 to 2pm. It’ll be on the Silco Lawn. Great activities – thre
 e legged races\, Water Balloon toss\, and a picnic to boot. There’ll be 
 food\, beer and prizes too. Plus Free cake!  \n\n 
END:VEVENT
BEGIN:VTIMEZONE
TZID:America/Denver
X-LIC-LOCATION:America/Denver
BEGIN:DAYLIGHT
DTSTART:20250309T030000
TZOFFSETFROM:-0700
TZOFFSETTO:-0600
TZNAME:MDT
END:DAYLIGHT
END:VTIMEZONE
END:VCALENDAR