BEGIN:VCALENDAR
VERSION:2.0
PRODID:-//wp-events-plugin.com//7.2.3.1//EN
TZID:America/Denver
X-WR-TIMEZONE:America/Denver
BEGIN:VEVENT
UID:1099@krystal93.com
DTSTART;TZID=America/Denver:20240824T000000
DTEND;TZID=America/Denver:20240824T000000
DTSTAMP:20240805T165148Z
URL:https://krystal93.com/events/tarren-calhoun-memorial-bull-riding-mutto
 n-bustin-2024/
SUMMARY:Tarren Calhoun Memorial Bull Riding & Mutton Bustin 2024
DESCRIPTION:In memory of Tarren Calhoun a Grand County native\, graduate of
  Kremmling High School\, and a Bull Riding Athlete\; our family would like
  to honor him with an epic bull riding\, an event he excelled in from the 
 time he was little. Please join us for an afternoon of excitement and fun.
  In addition to the bull riding and mutton bustin\, a silent auction of gr
 aciously donated items will be held. An abundance of food and drinks will 
 be available to completely enjoy the afternoon.
LOCATION:Middle Park Fair &amp\; Rodeo Grounds\, 210 11th Street\, Kremmlin
 g\, CO\, 80459\, United States
X-APPLE-STRUCTURED-LOCATION;VALUE=URI;X-ADDRESS=210 11th Street\, Kremmling
 \, CO\, 80459\, United States;X-APPLE-RADIUS=100;X-TITLE=Middle Park Fair 
 & Rodeo Grounds:geo:0,0
END:VEVENT
BEGIN:VTIMEZONE
TZID:America/Denver
X-LIC-LOCATION:America/Denver
BEGIN:DAYLIGHT
DTSTART:20240310T030000
TZOFFSETFROM:-0700
TZOFFSETTO:-0600
TZNAME:MDT
END:DAYLIGHT
END:VTIMEZONE
END:VCALENDAR