BEGIN:VCALENDAR
VERSION:2.0
PRODID:-//wp-events-plugin.com//7.2.3.1//EN
TZID:America/Denver
X-WR-TIMEZONE:America/Denver
BEGIN:VEVENT
UID:1524@krystal93.com
DTSTART;TZID=America/Denver:20250620T191500
DTEND;TZID=America/Denver:20250620T220000
DTSTAMP:20250602T023733Z
URL:https://krystal93.com/events/tash-sultana-dillon-amp/
SUMMARY:Tash Sultana (Dillon Amp)
DESCRIPTION:\n 	\nTash Sultana Return To The Roots USA Tour 2025\nWith Lime
  Cordiale\n\n 	Date:06/21/2025 6:30 PM - 10:00 PM\n 	Location:Dillon Amphi
 theater\n135 W. Lodgepole Street\nDillon\, Colorado 80435\n\n\n 	\n\n\n
CATEGORIES:Dillon Amphitheater
END:VEVENT
BEGIN:VTIMEZONE
TZID:America/Denver
X-LIC-LOCATION:America/Denver
BEGIN:DAYLIGHT
DTSTART:20250309T030000
TZOFFSETFROM:-0700
TZOFFSETTO:-0600
TZNAME:MDT
END:DAYLIGHT
END:VTIMEZONE
END:VCALENDAR