BEGIN:VCALENDAR
VERSION:2.0
PRODID:-//wp-events-plugin.com//7.2.3.1//EN
TZID:America/Denver
X-WR-TIMEZONE:America/Denver
BEGIN:VEVENT
UID:1471@krystal93.com
DTSTART;TZID=America/Denver:20250517T000000
DTEND;TZID=America/Denver:20250517T000000
DTSTAMP:20250501T231443Z
URL:https://krystal93.com/events/teddy-bear-clinic-at-st-anthony-summit-ho
 spital/
SUMMARY:Teddy Bear Clinic at St. Anthony Summit Hospital
DESCRIPTION:CommonSpirit is thrilled to bring back the free Teddy Bear Clin
 ic at St. Anthony Summit Hospital—a hands-on\, educational event for kid
 s ages 4 and up! Bring your little ones and their favorite stuffed animals
  for an exciting day of exploration. Children will tour the hospital in a 
 kid-friendly way\, visiting various departments and getting an up-close lo
 ok at emergency vehicles like ambulances and the Flight for Life helicopte
 r. They'll meet our friendly team of nurses\, doctors\, EMS personnel\, an
 d incredible associates\, making healthcare less intimidating while their 
 teddy bear even gets a full check-up. Don't miss this unique opportunity f
 or learning\, fun\, and community connection!
CATEGORIES:Family Event
LOCATION:St. Anthony Summit Hospital\, 340 Peak One Drive\, Frisco\, CO\, 8
 0443\, United States
X-APPLE-STRUCTURED-LOCATION;VALUE=URI;X-ADDRESS=340 Peak One Drive\, Frisco
 \, CO\, 80443\, United States;X-APPLE-RADIUS=100;X-TITLE=St. Anthony Summi
 t Hospital:geo:0,0
END:VEVENT
BEGIN:VTIMEZONE
TZID:America/Denver
X-LIC-LOCATION:America/Denver
BEGIN:DAYLIGHT
DTSTART:20250309T030000
TZOFFSETFROM:-0700
TZOFFSETTO:-0600
TZNAME:MDT
END:DAYLIGHT
END:VTIMEZONE
END:VCALENDAR