BEGIN:VCALENDAR
VERSION:2.0
PRODID:-//wp-events-plugin.com//7.2.3.1//EN
TZID:America/Denver
X-WR-TIMEZONE:America/Denver
BEGIN:VEVENT
UID:1883@krystal93.com
DTSTART;TZID=America/Denver:20260502T090000
DTEND;TZID=America/Denver:20260502T120000
DTSTAMP:20260304T021733Z
URL:https://krystal93.com/events/teddy-bear-clinic/
SUMMARY:Teddy Bear Clinic
DESCRIPTION:St. Anthony Summit Hospital Teddy Bear Clinic\nCommonSpirit is 
 thrilled to bring back the Teddy Bear Clinic at St. Anthony Summit Hospita
 l—a hands-on\, educational event for kids ages 4 and up! Bring your litt
 le ones and their favorite stuffed animals for an exciting day of explorat
 ion. Children will tour the hospital in a kid-friendly way\, visiting vari
 ous departments and getting an up-close look at emergency vehicles. They'l
 l meet our friendly team of nurses\, doctors\, EMS personnel\, and incredi
 ble associates\, making healthcare less intimidating while their teddy bea
 r even gets a full check-up.\n\nDon't miss this unique opportunity for lea
 rning\, fun\, and community connection!\nMay 2\, 9:00am - Noon\nEvent Time
  *: 09:00\nIf this is a repeating event\, please provide information on th
 e date(s) it repeats.: N/A\nEvent Website *: https://signup.com/go/UyVLgNn
 \nEvent Location *: St. Anthony Summit Hospital\nStreet Address *: 340 Pea
 k One Drive\nCity *: Frisco\nState *: CO\nZip Code *: 80443
CATEGORIES:Fundraiser
END:VEVENT
BEGIN:VTIMEZONE
TZID:America/Denver
X-LIC-LOCATION:America/Denver
BEGIN:DAYLIGHT
DTSTART:20260308T030000
TZOFFSETFROM:-0700
TZOFFSETTO:-0600
TZNAME:MDT
END:DAYLIGHT
END:VTIMEZONE
END:VCALENDAR