BEGIN:VCALENDAR
VERSION:2.0
PRODID:-//wp-events-plugin.com//7.2.3.1//EN
TZID:America/Denver
X-WR-TIMEZONE:America/Denver
BEGIN:VEVENT
UID:1097@krystal93.com
DTSTART;TZID=America/Denver:20240908T190000
DTEND;TZID=America/Denver:20240908T210000
DTSTAMP:20240728T134933Z
URL:https://krystal93.com/events/teddy-swims/
SUMMARY:Teddy Swims
DESCRIPTION:Teddy Swims\, known for his soulful voice and genre-blending so
 und\, is set to captivate audiences in Dillon. Rising to fame through his 
 heartfelt covers and original songs\, Teddy has quickly established himsel
 f as a unique talent in the music industry. His debut EP\, "Unlearning\," 
 showcases his ability to seamlessly merge R&amp\;B\, soul\, and pop influe
 nces\, with standout tracks like "Bed on Fire" and "Broke" receiving wides
 pread acclaim. His powerful vocals and emotional delivery make each perfor
 mance an unforgettable experience.\n\nWith millions of streams and a growi
 ng fan base\, Teddy Swims has become a sought-after live performer. His co
 ncerts are known for their intimate atmosphere and raw\, authentic energy.
  In Dillon\, fans can expect to hear a mix of his popular covers and origi
 nal hits\, as well as new material that highlights his evolving artistry. 
 Teddy’s ability to connect with his audience through his music and story
 telling promises an evening of soulful performances and memorable moments.
CATEGORIES:Concerts
LOCATION:Dillon Amphitheater\, 135 W Lodgepole St\, Dillon\, CO\, 80435\, U
 nited States
X-APPLE-STRUCTURED-LOCATION;VALUE=URI;X-ADDRESS=135 W Lodgepole St\, Dillon
 \, CO\, 80435\, United States;X-APPLE-RADIUS=100;X-TITLE=Dillon Amphitheat
 er:geo:0,0
END:VEVENT
BEGIN:VTIMEZONE
TZID:America/Denver
X-LIC-LOCATION:America/Denver
BEGIN:DAYLIGHT
DTSTART:20240310T030000
TZOFFSETFROM:-0700
TZOFFSETTO:-0600
TZNAME:MDT
END:DAYLIGHT
END:VTIMEZONE
END:VCALENDAR