BEGIN:VCALENDAR
VERSION:2.0
PRODID:-//wp-events-plugin.com//7.2.3.1//EN
TZID:America/Denver
X-WR-TIMEZONE:America/Denver
BEGIN:VEVENT
UID:1747@krystal93.com
DTSTART;TZID=America/Denver:20251119T190000
DTEND;TZID=America/Denver:20251119T203000
DTSTAMP:20251103T091753Z
URL:https://krystal93.com/events/thanksgiving-gratitude-mural/
SUMMARY:Thanksgiving Gratitude Mural
DESCRIPTION:WEDNESDAY\, NOVEMBER 19\, 2025\n\nThanksgiving Gratitude Mural 
 (Bilingual)\n\n7:00 pm - 8:30 pm / Frisco\n\nJoin us for a special Gratitu
 de Mural Family Event — a joyful gathering where families come together 
 to reflect\, connect\, and express what they’re thankful for. No childca
 re or supervision of children is being provided. This event is intended fo
 r Summit County residents only. Event Facilitated in English and Spanish
CATEGORIES:Building Hope Summit County
END:VEVENT
BEGIN:VTIMEZONE
TZID:America/Denver
X-LIC-LOCATION:America/Denver
BEGIN:STANDARD
DTSTART:20251102T010000
TZOFFSETFROM:-0600
TZOFFSETTO:-0700
TZNAME:MST
END:STANDARD
END:VTIMEZONE
END:VCALENDAR