BEGIN:VCALENDAR
VERSION:2.0
PRODID:-//wp-events-plugin.com//7.2.3.1//EN
TZID:America/Denver
X-WR-TIMEZONE:America/Denver
BEGIN:VEVENT
UID:1761@krystal93.com
DTSTART;TZID=America/Denver:20251206T140000
DTEND;TZID=America/Denver:20251206T210000
DTSTAMP:20251202T134023Z
URL:https://krystal93.com/events/the-christmas-clock-alpine-dance-academy-
 2/
SUMMARY:The Christmas Clock - Alpine Dance Academy
DESCRIPTION:Alpine Dance Academy presents The Christmas Clock at the Riverw
 alk Center. It’s an original holiday story and dance production featur
 ing our great local talent. Join for a festive celebration of dance\, sto
 rytelling and holiday cheer. The show is at 7pm Friday December 5... and t
 here are two showtimes on Saturday December 6 at 2pm and 7pm. Go to breckc
 reate-dot-org for tickets!  
CATEGORIES:Family Event
END:VEVENT
BEGIN:VTIMEZONE
TZID:America/Denver
X-LIC-LOCATION:America/Denver
BEGIN:STANDARD
DTSTART:20251102T010000
TZOFFSETFROM:-0600
TZOFFSETTO:-0700
TZNAME:MST
END:STANDARD
END:VTIMEZONE
END:VCALENDAR