BEGIN:VCALENDAR
VERSION:2.0
PRODID:-//wp-events-plugin.com//7.2.3.1//EN
TZID:America/Denver
X-WR-TIMEZONE:America/Denver
BEGIN:VEVENT
UID:444@krystal93.com
DTSTART;TZID=America/Denver:20230204T190000
DTEND;TZID=America/Denver:20230204T210000
DTSTAMP:20230131T192949Z
URL:https://krystal93.com/events/the-lone-bellow-at-riverwalk-center/
SUMMARY:The Lone Bellow at Riverwalk Center
DESCRIPTION:WHAT: THE LONE BELLOW AT THE RIVERWALK CENTER \n\nWHO: The Lon
 e Bellow from Brooklyn New York \n\nWhen: Saturday\, February 4 \n\nWher
 e: The Riverwalk Center in Breckenridge. \n\nDetails: Check out this amaz
 ing group playing a range of Americana\, indie and folk music as well as a
 lt-country. Go to BreckCreate.org for ticket info. Krystal Media Supports 
 the Summit. 
END:VEVENT
BEGIN:VTIMEZONE
TZID:America/Denver
X-LIC-LOCATION:America/Denver
BEGIN:STANDARD
DTSTART:20221106T010000
TZOFFSETFROM:-0600
TZOFFSETTO:-0700
TZNAME:MST
END:STANDARD
END:VTIMEZONE
END:VCALENDAR