BEGIN:VCALENDAR
VERSION:2.0
PRODID:-//wp-events-plugin.com//7.2.3.1//EN
TZID:America/Denver
X-WR-TIMEZONE:America/Denver
BEGIN:VEVENT
UID:154@krystal93.com
DTSTART;TZID=America/Denver:20220611T190000
DTEND;TZID=America/Denver:20220611T220000
DTSTAMP:20220425T184247Z
URL:https://krystal93.com/events/the-long-run-free-2/
SUMMARY:The Long Run - FREE
DESCRIPTION:Come to the Dillon Amphitheater for this great FREE musical sho
 w. Event starts at 7pm.\n\nDillon Amphitheater\n\nDillon\, Colorado
CATEGORIES:Dillon Amphitheater
END:VEVENT
BEGIN:VTIMEZONE
TZID:America/Denver
X-LIC-LOCATION:America/Denver
BEGIN:DAYLIGHT
DTSTART:20220313T030000
TZOFFSETFROM:-0700
TZOFFSETTO:-0600
TZNAME:MDT
END:DAYLIGHT
END:VTIMEZONE
END:VCALENDAR