BEGIN:VCALENDAR
VERSION:2.0
PRODID:-//wp-events-plugin.com//7.2.3.1//EN
TZID:America/Denver
X-WR-TIMEZONE:America/Denver
BEGIN:VEVENT
UID:121@krystal93.com
DTSTART;TZID=America/Denver:20220326T200000
DTEND;TZID=America/Denver:20220326T230000
DTSTAMP:20220316T233325Z
URL:https://krystal93.com/events/the-pinheads-2/
SUMMARY:The Pinheads
DESCRIPTION:BAKERS BREWERY IN SILVERTHORNE--- Live Music! \n\nWHEN: Saturd
 ay March 26\, 8pm    \n\nEnjoy the Pinheads with classic punk and rock.
    \n\nBakers Brewery is a sponsor of Music at the Summit – supporting
  local musicians. Greers Appliance and Mountain Comfort Furnishings are al
 so sponsors of Krystal Media’s Music at the Summit.
CATEGORIES:Bakers Brewery Events
LOCATION:Bakers Brewery\, 531 Silverthorne Lane\, Silverthorne\, Colorado\,
  United States
X-APPLE-STRUCTURED-LOCATION;VALUE=URI;X-ADDRESS=531 Silverthorne Lane\, Sil
 verthorne\, Colorado\, United States;X-APPLE-RADIUS=100;X-TITLE=Bakers Bre
 wery:geo:0,0
END:VEVENT
BEGIN:VTIMEZONE
TZID:America/Denver
X-LIC-LOCATION:America/Denver
BEGIN:DAYLIGHT
DTSTART:20220313T030000
TZOFFSETFROM:-0700
TZOFFSETTO:-0600
TZNAME:MDT
END:DAYLIGHT
END:VTIMEZONE
END:VCALENDAR