BEGIN:VCALENDAR
VERSION:2.0
PRODID:-//wp-events-plugin.com//7.2.3.1//EN
TZID:America/Denver
X-WR-TIMEZONE:America/Denver
BEGIN:VEVENT
UID:1454@krystal93.com
DTSTART;TZID=America/Denver:20250411T200000
DTEND;TZID=America/Denver:20250411T230000
DTSTAMP:20250331T143800Z
URL:https://krystal93.com/events/the-velveteers-10mmh/
SUMMARY:The Velveteers - 10MMH
DESCRIPTION:TICKETS\n\nThe Velveteers\, a primal rock trio from the mountai
 ns of Boulder\, CO made up of singer/guitarist Demi Demitro and drummers B
 aby Pottersmith and Jonny Fig\, will unveil their debut album Nightmare Da
 ydream on October 8 via Easy Eye Sound. Produced by Grammy Award-winning a
 rtist Dan Auerbach\, the record is the long-awaited first statement from a
  band that formed in 2014 and has been carefully honing its sound and iden
 tity ever since. “Charmer And The Snake\,” the record’s first single
 \, is out now with an accompanying video.
CATEGORIES:10 Mile Music Hall
END:VEVENT
BEGIN:VTIMEZONE
TZID:America/Denver
X-LIC-LOCATION:America/Denver
BEGIN:DAYLIGHT
DTSTART:20250309T030000
TZOFFSETFROM:-0700
TZOFFSETTO:-0600
TZNAME:MDT
END:DAYLIGHT
END:VTIMEZONE
END:VCALENDAR