BEGIN:VCALENDAR
VERSION:2.0
PRODID:-//wp-events-plugin.com//7.2.3.1//EN
TZID:America/Denver
X-WR-TIMEZONE:America/Denver
BEGIN:VEVENT
UID:431@krystal93.com
DTSTART;TZID=America/Denver:20230216T170000
DTEND;TZID=America/Denver:20230216T190000
DTSTAMP:20230127T033159Z
URL:https://krystal93.com/events/thirsty-third-thursday/
SUMMARY:Thirsty Third Thursday
DESCRIPTION:Join us at the La Cima Mall Broken Compass location for great b
 rews\, awesome prizes and fun contests. Phil Lindeman hosts the party and 
 keeps the music going along with some really funky contests and prizes you
 'll want to win.
CATEGORIES:Broken Compass
END:VEVENT
BEGIN:VTIMEZONE
TZID:America/Denver
X-LIC-LOCATION:America/Denver
BEGIN:STANDARD
DTSTART:20221106T010000
TZOFFSETFROM:-0600
TZOFFSETTO:-0700
TZNAME:MST
END:STANDARD
END:VTIMEZONE
END:VCALENDAR