BEGIN:VCALENDAR
VERSION:2.0
PRODID:-//wp-events-plugin.com//7.2.3.1//EN
TZID:America/Denver
X-WR-TIMEZONE:America/Denver
BEGIN:VEVENT
UID:988@krystal93.com
DTSTART;TZID=America/Denver:20240530T120000
DTEND;TZID=America/Denver:20240530T130000
DTSTAMP:20240501T182136Z
URL:https://krystal93.com/events/ticket-lasso-thursday-13/
SUMMARY:Ticket Lasso Thursday
DESCRIPTION:93.1 Summit Country is giving away tickets to see Zach Bryan at
  Empower Field at Mile High on June 15. Just listen over the noon hour and
  we'll hook you up if you're the right caller!  
END:VEVENT
BEGIN:VTIMEZONE
TZID:America/Denver
X-LIC-LOCATION:America/Denver
BEGIN:DAYLIGHT
DTSTART:20240310T030000
TZOFFSETFROM:-0700
TZOFFSETTO:-0600
TZNAME:MDT
END:DAYLIGHT
END:VTIMEZONE
END:VCALENDAR