BEGIN:VCALENDAR
VERSION:2.0
PRODID:-//wp-events-plugin.com//7.2.3.1//EN
TZID:America/Denver
X-WR-TIMEZONE:America/Denver
BEGIN:VEVENT
UID:1501@krystal93.com
DTSTART;TZID=America/Denver:20250529T060000
DTEND;TZID=America/Denver:20250529T180000
DTSTAMP:20250501T234049Z
URL:https://krystal93.com/events/ticket-lasso-thursday-summit-country-5/
SUMMARY:Ticket Lasso Thursday - Summit Country
DESCRIPTION:Listen all day Thursday to win tickets all month long on your f
 avorite country station\, 93.1 Summit Country. You'll get a shot at shows 
 like Dwight Yoakum\, Little Big Town\, Alison Krauss and more.  Craig and
  Billy have your ticket... on Ticket Lasso Thursdays.
CATEGORIES:Tickets giveaway
END:VEVENT
BEGIN:VTIMEZONE
TZID:America/Denver
X-LIC-LOCATION:America/Denver
BEGIN:DAYLIGHT
DTSTART:20250309T030000
TZOFFSETFROM:-0700
TZOFFSETTO:-0600
TZNAME:MDT
END:DAYLIGHT
END:VTIMEZONE
END:VCALENDAR