BEGIN:VCALENDAR
VERSION:2.0
PRODID:-//wp-events-plugin.com//7.2.3.1//EN
TZID:America/Denver
X-WR-TIMEZONE:America/Denver
BEGIN:VEVENT
UID:1037@krystal93.com
DTSTART;TZID=America/Denver;VALUE=DATE:20240605
DTEND;TZID=America/Denver;VALUE=DATE:20240606
DTSTAMP:20240602T185016Z
URL:https://krystal93.com/events/ticket-window-wednesday-13/
SUMMARY:Ticket Window Wednesday
DESCRIPTION:Listen all day long on Krystal 93 for Ticket Window Wednesday b
 rought to you by Greers Appliance Center. In the month of June you could w
 in tickets to see Goose at Red Rocks\, Maren Morrris at the Dillon Amphith
 eater\, Dark Star Orchestra at the Gerald Ford Amphitheater\, Old Crow Med
 icine Show &amp\; Molly Tuttle at the Dillon Amp\, Pixies and Modest Mouse
  at Fiddler's Green -- and more! Listen to Tom and TJ for your chance to w
 in every Wednesday.
END:VEVENT
BEGIN:VTIMEZONE
TZID:America/Denver
X-LIC-LOCATION:America/Denver
BEGIN:DAYLIGHT
DTSTART:20240310T030000
TZOFFSETFROM:-0700
TZOFFSETTO:-0600
TZNAME:MDT
END:DAYLIGHT
END:VTIMEZONE
END:VCALENDAR