BEGIN:VCALENDAR
VERSION:2.0
PRODID:-//wp-events-plugin.com//7.2.3.1//EN
TZID:America/Denver
X-WR-TIMEZONE:America/Denver
BEGIN:VEVENT
UID:1418@krystal93.com
DTSTART;TZID=America/Denver;VALUE=DATE:20250319
DTEND;TZID=America/Denver;VALUE=DATE:20250320
DTSTAMP:20250303T013521Z
URL:https://krystal93.com/events/ticket-window-wednesday-36/
SUMMARY:Ticket Window Wednesday
DESCRIPTION:Every Wednesday if you listen to Krystal 93 all day long you co
 uld win tickets to some great 10 Mile Music Hall shows playing on the foll
 owing dates:\n\nNeighbor 3/15 \n\nKeller Williams 3/28 \n\nBilly Failing 3
 /29 \n\nThe Lil Smokies 4/3\n\nTicket Window Wednesday is brought to you 
 by Greers Appliance Center.
CATEGORIES:Tickets giveaway
END:VEVENT
BEGIN:VTIMEZONE
TZID:America/Denver
X-LIC-LOCATION:America/Denver
BEGIN:DAYLIGHT
DTSTART:20250309T030000
TZOFFSETFROM:-0700
TZOFFSETTO:-0600
TZNAME:MDT
END:DAYLIGHT
END:VTIMEZONE
END:VCALENDAR