BEGIN:VCALENDAR
VERSION:2.0
PRODID:-//wp-events-plugin.com//7.2.3.1//EN
TZID:America/Denver
X-WR-TIMEZONE:America/Denver
BEGIN:VEVENT
UID:1753@krystal93.com
DTSTART;TZID=America/Denver:20251210T000000
DTEND;TZID=America/Denver:20251210T000000
DTSTAMP:20251202T132712Z
URL:https://krystal93.com/events/ticket-window-wednesday-54/
SUMMARY:Ticket Window Wednesday
DESCRIPTION:Listen to Ticket Window Wednesday all day for chances to win ti
 ckets to see Shakedown Street at 10 Mile Music Hall December 27. Krystal 9
 3 and Z-2 Entertainment present these great concerts all winter long. Tick
 et Window Wednesday is brought to you by Greers Appliance Center.  
CATEGORIES:Tickets giveaway
END:VEVENT
BEGIN:VTIMEZONE
TZID:America/Denver
X-LIC-LOCATION:America/Denver
BEGIN:STANDARD
DTSTART:20251102T010000
TZOFFSETFROM:-0600
TZOFFSETTO:-0700
TZNAME:MST
END:STANDARD
END:VTIMEZONE
END:VCALENDAR