BEGIN:VCALENDAR
VERSION:2.0
PRODID:-//wp-events-plugin.com//7.2.3.1//EN
TZID:America/Denver
X-WR-TIMEZONE:America/Denver
BEGIN:VEVENT
UID:1755@krystal93.com
DTSTART;TZID=America/Denver:20251224T000000
DTEND;TZID=America/Denver:20251224T000000
DTSTAMP:20251202T133031Z
URL:https://krystal93.com/events/ticket-window-wednesday-56/
SUMMARY:Ticket Window Wednesday
DESCRIPTION:Listen to Ticket Window Wednesday all day for chances to win a 
 pair of tickets to see Neal Frances at the Ogden Theater on January 10. Ti
 cket Window Wednesday is brought to you by Greers Appliance Center.  
CATEGORIES:Tickets giveaway
END:VEVENT
BEGIN:VTIMEZONE
TZID:America/Denver
X-LIC-LOCATION:America/Denver
BEGIN:STANDARD
DTSTART:20251102T010000
TZOFFSETFROM:-0600
TZOFFSETTO:-0700
TZNAME:MST
END:STANDARD
END:VTIMEZONE
END:VCALENDAR