BEGIN:VCALENDAR
VERSION:2.0
PRODID:-//wp-events-plugin.com//7.2.3.1//EN
TZID:America/Denver
X-WR-TIMEZONE:America/Denver
BEGIN:VEVENT
UID:1786@krystal93.com
DTSTART;TZID=America/Denver;VALUE=DATE:20260121
DTEND;TZID=America/Denver;VALUE=DATE:20260122
DTSTAMP:20260102T025130Z
URL:https://krystal93.com/events/ticket-window-wednesday-58/
SUMMARY:Ticket Window Wednesday
DESCRIPTION:Listen to Krystal 93 all month long in January for tickets to g
 reat shows like The Devil Makes Three at Mission Ballroom\, plus festival 
 passes to WinterWonderGrass in Steamboat Springs\, and great January shows
  at 10 Mile Music Hall. Listen all day long every Wednesday. Ticket Window
  Wednesday is brought to you by Greers Appliance Center.
CATEGORIES:Tickets giveaway
END:VEVENT
BEGIN:VTIMEZONE
TZID:America/Denver
X-LIC-LOCATION:America/Denver
BEGIN:STANDARD
DTSTART:20251102T010000
TZOFFSETFROM:-0600
TZOFFSETTO:-0700
TZNAME:MST
END:STANDARD
END:VTIMEZONE
END:VCALENDAR