BEGIN:VCALENDAR
VERSION:2.0
PRODID:-//wp-events-plugin.com//7.2.3.1//EN
TZID:America/Denver
X-WR-TIMEZONE:America/Denver
BEGIN:VEVENT
UID:810@krystal93.com
DTSTART;TZID=America/Denver:20240117T000000
DTEND;TZID=America/Denver:20240117T000000
DTSTAMP:20240102T234201Z
URL:https://krystal93.com/events/ticket-window-wednesday-charlie-crockett/
SUMMARY:Ticket Window Wednesday - Big Richard
DESCRIPTION:Listen for Ticket Window Wednesday TODAY.  You could win ticket
 s to see Big Richard\, Ogden Theater\, Jan 20. Ticket Window Wednesday is 
 brought to you by Greer’s Appliance Center.  
END:VEVENT
BEGIN:VTIMEZONE
TZID:America/Denver
X-LIC-LOCATION:America/Denver
BEGIN:STANDARD
DTSTART:20231105T010000
TZOFFSETFROM:-0600
TZOFFSETTO:-0700
TZNAME:MST
END:STANDARD
END:VTIMEZONE
END:VCALENDAR