BEGIN:VCALENDAR
VERSION:2.0
PRODID:-//wp-events-plugin.com//7.2.3.1//EN
TZID:America/Denver
X-WR-TIMEZONE:America/Denver
BEGIN:VEVENT
UID:1704@krystal93.com
DTSTART;TZID=America/Denver;VALUE=DATE:20250917
DTEND;TZID=America/Denver;VALUE=DATE:20250918
DTSTAMP:20250829T145536Z
URL:https://krystal93.com/events/ticket-window-wednesday-k93-3/
SUMMARY:Ticket Window Wednesday - K93
DESCRIPTION:Krystal 93 has great giveaways for Ticket Window Wednesday in S
 eptember-- including Black Crowes\, Sturgill Simpson\, and Pulp. Listen ev
 ery Wednesday to Krystal 93\, Ticket Window Wednesday brought to you by
  Greers Appliance Center.
CATEGORIES:Tickets giveaway
END:VEVENT
BEGIN:VTIMEZONE
TZID:America/Denver
X-LIC-LOCATION:America/Denver
BEGIN:DAYLIGHT
DTSTART:20250309T030000
TZOFFSETFROM:-0700
TZOFFSETTO:-0600
TZNAME:MDT
END:DAYLIGHT
END:VTIMEZONE
END:VCALENDAR