BEGIN:VCALENDAR
VERSION:2.0
PRODID:-//wp-events-plugin.com//7.2.3.1//EN
TZID:America/Denver
X-WR-TIMEZONE:America/Denver
BEGIN:VEVENT
UID:1117@krystal93.com
DTSTART;TZID=America/Denver:20240807T000000
DTEND;TZID=America/Denver:20240807T000000
DTSTAMP:20240805T170833Z
URL:https://krystal93.com/events/ticket-window-wednesday-mt-joy-2/
SUMMARY:Ticket Window Wednesday - Mt Joy
DESCRIPTION:This week Ticket Window Wednesday with your chance to WIN ticke
 ts to see Mt Joy at Red Rocks on August 9. Tune in to Krystal 93 all day f
 or your chance to win tickets. Ticket Window Wednesday is brought to you b
 y Greer’s Appliance Center. 
CATEGORIES:Tickets giveaway
END:VEVENT
BEGIN:VTIMEZONE
TZID:America/Denver
X-LIC-LOCATION:America/Denver
BEGIN:DAYLIGHT
DTSTART:20240310T030000
TZOFFSETFROM:-0700
TZOFFSETTO:-0600
TZNAME:MDT
END:DAYLIGHT
END:VTIMEZONE
END:VCALENDAR