BEGIN:VCALENDAR
VERSION:2.0
PRODID:-//wp-events-plugin.com//7.2.3.1//EN
TZID:America/Denver
X-WR-TIMEZONE:America/Denver
BEGIN:VEVENT
UID:403@krystal93.com
DTSTART;TZID=America/Denver:20230118T000000
DTEND;TZID=America/Denver:20230119T000000
DTSTAMP:20230102T042524Z
URL:https://krystal93.com/events/ticket-window-wednesday-phil-lesh-and-fri
 ends-2/
SUMMARY:Ticket Window Wednesday - Phil Lesh and Friends
DESCRIPTION:Listen to Krystal 93 to win tickets to see Phil Lesh and Friend
 s February 4 and 5 at the Mission Ballroom. Tom and TJ will be giving away
  tickets all day on Krystal 93!
END:VEVENT
BEGIN:VTIMEZONE
TZID:America/Denver
X-LIC-LOCATION:America/Denver
BEGIN:STANDARD
DTSTART:20221106T010000
TZOFFSETFROM:-0600
TZOFFSETTO:-0700
TZNAME:MST
END:STANDARD
END:VTIMEZONE
END:VCALENDAR