BEGIN:VCALENDAR
VERSION:2.0
PRODID:-//wp-events-plugin.com//7.2.3.1//EN
TZID:America/Denver
X-WR-TIMEZONE:America/Denver
BEGIN:VEVENT
UID:1118@krystal93.com
DTSTART;TZID=America/Denver:20240821T000000
DTEND;TZID=America/Denver:20240821T000000
DTSTAMP:20240805T171105Z
URL:https://krystal93.com/events/ticket-window-wednesday-robert-plant-alis
 on-krauss/
SUMMARY:Ticket Window Wednesday - Robert Plant & Alison Krauss
DESCRIPTION:This week Ticket Window Wednesday with your chance to WIN ticke
 ts to see Robert Plant and Alison Krauss at Gerald Ford Amphitheater on Se
 pt 1. Tune in to Krystal 93 all day for your chance to win tickets. Ticket
  Window Wednesday is brought to you by Greer’s Appliance Center. 
CATEGORIES:Tickets giveaway
END:VEVENT
BEGIN:VTIMEZONE
TZID:America/Denver
X-LIC-LOCATION:America/Denver
BEGIN:DAYLIGHT
DTSTART:20240310T030000
TZOFFSETFROM:-0700
TZOFFSETTO:-0600
TZNAME:MDT
END:DAYLIGHT
END:VTIMEZONE
END:VCALENDAR