BEGIN:VCALENDAR
VERSION:2.0
PRODID:-//wp-events-plugin.com//7.2.3.1//EN
TZID:America/Denver
X-WR-TIMEZONE:America/Denver
BEGIN:VEVENT
UID:1892@krystal93.com
DTSTART;TZID=America/Denver:20260416T173000
DTEND;TZID=America/Denver:20260416T190000
DTSTAMP:20260329T133435Z
URL:https://krystal93.com/events/tie-dye-workshop/
SUMMARY:Tie Dye Workshop
DESCRIPTION:THURSDAY\, APRIL 16\, 2026\nTie Dye Workshop\n5:30-7:00 pm / Br
 eckenridge\nBring your family to this special workshop hosted by\nMaryB Go
  Round Tie Dyes. Get ready to be hands on\nas you and your family learn th
 e Ice Tie Dye method\nand create your own Tie Dye tote bag or bandana.\nNo
  childcare or supervision of children is being provided.\nThis event is in
 tended for Summit County\nCONTACT BuildingHopeSummit.org for more informat
 ion and to sign up.
CATEGORIES:Building Hope Summit County
END:VEVENT
BEGIN:VTIMEZONE
TZID:America/Denver
X-LIC-LOCATION:America/Denver
BEGIN:DAYLIGHT
DTSTART:20260308T030000
TZOFFSETFROM:-0700
TZOFFSETTO:-0600
TZNAME:MDT
END:DAYLIGHT
END:VTIMEZONE
END:VCALENDAR