BEGIN:VCALENDAR
VERSION:2.0
PRODID:-//wp-events-plugin.com//7.2.3.1//EN
TZID:America/Denver
X-WR-TIMEZONE:America/Denver
BEGIN:VEVENT
UID:798@krystal93.com
DTSTART;TZID=America/Denver:20231222T200000
DTEND;TZID=America/Denver:20231222T223000
DTSTAMP:20231218T214643Z
URL:https://krystal93.com/events/tilvaro-pain-door-at-the-underground/
SUMMARY:Tilvaro & Pain Door at The Underground
DESCRIPTION:Check out live music at the Underground next to Elevation Bowl 
 in Dillon. Tilvaro and Pain Door will be there Friday December 22. That's
  at The Underground starting at 8pm. NO COVER. It’s 21 and over. Info 
 at theundergrounddillon.com. 
END:VEVENT
BEGIN:VTIMEZONE
TZID:America/Denver
X-LIC-LOCATION:America/Denver
BEGIN:STANDARD
DTSTART:20231105T010000
TZOFFSETFROM:-0600
TZOFFSETTO:-0700
TZNAME:MST
END:STANDARD
END:VTIMEZONE
END:VCALENDAR