BEGIN:VCALENDAR
VERSION:2.0
PRODID:-//wp-events-plugin.com//7.2.3.1//EN
TZID:America/Denver
X-WR-TIMEZONE:America/Denver
BEGIN:VEVENT
UID:1903@krystal93.com
DTSTART;TZID=America/Denver:20260404T190000
DTEND;TZID=America/Denver:20260404T233000
DTSTAMP:20260329T140652Z
URL:https://krystal93.com/events/tom-hamilton-band-10mmh/
SUMMARY:Tom Hamilton Band - 10MMH
DESCRIPTION:Tom Hamilton Band with the Runaway Grooms\n\nApril 4\, 7:00pm-1
 1:30pm\n\n10 Mile Music Hall\n\nhttps://www.z2ent.com/events/detail/tom-ha
 milton-10m-2026
CATEGORIES:10 Mile Music Hall
END:VEVENT
BEGIN:VTIMEZONE
TZID:America/Denver
X-LIC-LOCATION:America/Denver
BEGIN:DAYLIGHT
DTSTART:20260308T030000
TZOFFSETFROM:-0700
TZOFFSETTO:-0600
TZNAME:MDT
END:DAYLIGHT
END:VTIMEZONE
END:VCALENDAR