BEGIN:VCALENDAR
VERSION:2.0
PRODID:-//wp-events-plugin.com//7.2.3.1//EN
TZID:America/Denver
X-WR-TIMEZONE:America/Denver
BEGIN:VEVENT
UID:931@krystal93.com
DTSTART;TZID=America/Denver:20240410T180000
DTEND;TZID=America/Denver:20240410T200000
DTSTAMP:20240401T024245Z
URL:https://krystal93.com/events/tough-guy-sessions/
SUMMARY:Tough Guy Sessions
DESCRIPTION:Building Hope Summit County \n\nWhat: Tough Guy Sessions \n\n
 Where: Frisco Senior and Community Center \n\nWhen: The next session is A
 pril 10 from 6 to 8pm\, focused on male influence\, support and leadership
 .  \n\nDetails: Tough Guy sessions with Michael Brand tackles topics ran
 ging from managing relationships to supporting your male peers in times of
  crisis.  Go to buildinghopesummit.org/community to learn more and regist
 er.  
CATEGORIES:Building Hope Summit County
END:VEVENT
BEGIN:VTIMEZONE
TZID:America/Denver
X-LIC-LOCATION:America/Denver
BEGIN:DAYLIGHT
DTSTART:20240310T030000
TZOFFSETFROM:-0700
TZOFFSETTO:-0600
TZNAME:MDT
END:DAYLIGHT
END:VTIMEZONE
END:VCALENDAR