BEGIN:VCALENDAR
VERSION:2.0
PRODID:-//wp-events-plugin.com//7.2.3.1//EN
TZID:America/Denver
X-WR-TIMEZONE:America/Denver
BEGIN:VEVENT
UID:1823@krystal93.com
DTSTART;TZID=America/Denver:20260205T120000
DTEND;TZID=America/Denver:20260205T133000
DTSTAMP:20260203T032059Z
URL:https://krystal93.com/events/town-talk-in-frisco/
SUMMARY:Town Talk in Frisco
DESCRIPTION:You're invited to the Frisco TOWN TALK THIS THURSDAY at the
  Frisco Town Hall Council Chambers. This is a chance to find out about Fr
 isco projects and happenings... and to ask questions. The meeting is noo
 n to 1:30\, with a free lunch available\, hosted by Town Manager Tom Fi
 sher. The Frisco TOWN TALK\, Thursday\, February 5. 
END:VEVENT
BEGIN:VTIMEZONE
TZID:America/Denver
X-LIC-LOCATION:America/Denver
BEGIN:STANDARD
DTSTART:20251102T010000
TZOFFSETFROM:-0600
TZOFFSETTO:-0700
TZNAME:MST
END:STANDARD
END:VTIMEZONE
END:VCALENDAR