BEGIN:VCALENDAR
VERSION:2.0
PRODID:-//wp-events-plugin.com//7.2.3.1//EN
TZID:America/Denver
X-WR-TIMEZONE:America/Denver
BEGIN:VEVENT
UID:1886@krystal93.com
DTSTART;TZID=America/Denver:20260327T180000
DTEND;TZID=America/Denver:20260327T220000
DTSTAMP:20260319T183747Z
URL:https://krystal93.com/events/trail-map-party-breck-patrol/
SUMMARY:Trail Map Party - Breck Patrol
DESCRIPTION:Breck Patrol invites anyone and everyone to join us for our Tra
 il Map Party where guests are encouraged to dress up as a trail name or ot
 her point of geographical interest on the map! Chief Complaint will be pro
 viding tunes\, Broken Compass will be pouring the beers\, and we'll be giv
 ing out prizes (old trail signs!) for the best costumes.\nEvent Start Dat
 e *: 2026-03-27\nEvent End Date *: 2026-03-27\nEvent Time *: 18:00\nEvent 
 Website *: https://www.instagram.com/breckskipatrol/\nEvent Location *: B
 roken Compass (Main Street Location)\nStreet Address *: 520 S Main Street 
 Unit 2V\nCity *: Breckenridge\nState *: CO\nZip Code *: 80424
CATEGORIES:Broken Compass
END:VEVENT
BEGIN:VTIMEZONE
TZID:America/Denver
X-LIC-LOCATION:America/Denver
BEGIN:DAYLIGHT
DTSTART:20260308T030000
TZOFFSETFROM:-0700
TZOFFSETTO:-0600
TZNAME:MDT
END:DAYLIGHT
END:VTIMEZONE
END:VCALENDAR