BEGIN:VCALENDAR
VERSION:2.0
PRODID:-//wp-events-plugin.com//7.2.3.1//EN
TZID:America/Denver
X-WR-TIMEZONE:America/Denver
BEGIN:VEVENT
UID:629@krystal93.com
DTSTART;TZID=America/Denver:20230705T100000
DTEND;TZID=America/Denver:20230705T120000
DTSTAMP:20230701T150906Z
URL:https://krystal93.com/events/trail-stewardship-day-12-18/
SUMMARY:Trail Stewardship Day (12-18)
DESCRIPTION:\n\n\n\nTRAIL STEWARDSHIP DAY WITH FRIENDS OF DILLON RANGER DIS
 TRICT AGES 12-18\n\nSpend a day with Friends of Dillon Ranger District mai
 ntaining the trails that make Summit County great! Participation limited t
 o ages 12-18. Facilitated in English.\n\nTime: 10am-12pm\n\nLocation: Dill
 on\n\n\n\n\nGo to Building Hope Summit County for more information.  
CATEGORIES:Building Hope Summit County
END:VEVENT
BEGIN:VTIMEZONE
TZID:America/Denver
X-LIC-LOCATION:America/Denver
BEGIN:DAYLIGHT
DTSTART:20230312T030000
TZOFFSETFROM:-0700
TZOFFSETTO:-0600
TZNAME:MDT
END:DAYLIGHT
END:VTIMEZONE
END:VCALENDAR