BEGIN:VCALENDAR
VERSION:2.0
PRODID:-//wp-events-plugin.com//7.2.3.1//EN
TZID:America/Denver
X-WR-TIMEZONE:America/Denver
BEGIN:VEVENT
UID:682@krystal93.com
DTSTART;TZID=America/Denver:20230805T090000
DTEND;TZID=America/Denver:20230805T120000
DTSTAMP:20230801T011425Z
URL:https://krystal93.com/events/trail-stewardship-fdrd/
SUMMARY:Trail Stewardship FDRD
DESCRIPTION:\n\n\n\n\n\n\n\n\n\nTRAIL STEWARDSHIP DAY WITH FRIENDS OF DILLO
 N RANGER DISTRICT\n\nSpend a day with Friends of Dillon Ranger District ma
 intaining the trails that make Summit County great! All ages are welcome -
  children under age 15 must be accompanied by an adult. Facilitated in Eng
 lish.\n\nTime: 9am-12pm Location: Dillon\n\nGo to Building Hope Summit Cou
 nty for more information.\n\n\n\n\n\n\n\n\n\n
CATEGORIES:Building Hope Summit County
END:VEVENT
BEGIN:VTIMEZONE
TZID:America/Denver
X-LIC-LOCATION:America/Denver
BEGIN:DAYLIGHT
DTSTART:20230312T030000
TZOFFSETFROM:-0700
TZOFFSETTO:-0600
TZNAME:MDT
END:DAYLIGHT
END:VTIMEZONE
END:VCALENDAR