BEGIN:VCALENDAR
VERSION:2.0
PRODID:-//wp-events-plugin.com//7.2.3.1//EN
TZID:America/Denver
X-WR-TIMEZONE:America/Denver
BEGIN:VEVENT
UID:704@krystal93.com
DTSTART;TZID=America/Denver:20230923T100000
DTEND;TZID=America/Denver:20230923T120000
DTSTAMP:20230831T040227Z
URL:https://krystal93.com/events/trail-stewardship/
SUMMARY:Trail Stewardship
DESCRIPTION:\n\n\n\n\n\n\n\n\n\nTRAIL STEWARDSHIP DAY WITH FRIENDS OF DILLO
 N RANGER DISTRICT AGES 12-18\n\nSpend a day with Friends of Dillon Ranger 
 District maintaining the trails that make Summit County great and learn ab
 out forest health! Participation limited to ages 12-18. Facilitated in Eng
 lish.\n\nTime: 10am-12pm\n\nLocation: Dillon\n\n\n\n\n\n\n\n\n\n\nGo to Bu
 ilding Hope Summit County for more information.  
CATEGORIES:Building Hope Summit County
END:VEVENT
BEGIN:VTIMEZONE
TZID:America/Denver
X-LIC-LOCATION:America/Denver
BEGIN:DAYLIGHT
DTSTART:20230312T030000
TZOFFSETFROM:-0700
TZOFFSETTO:-0600
TZNAME:MDT
END:DAYLIGHT
END:VTIMEZONE
END:VCALENDAR