BEGIN:VCALENDAR
VERSION:2.0
PRODID:-//wp-events-plugin.com//7.2.3.1//EN
TZID:America/Denver
X-WR-TIMEZONE:America/Denver
BEGIN:VEVENT
UID:1749@krystal93.com
DTSTART;TZID=America/Denver:20251122T180000
DTEND;TZID=America/Denver:20251122T210000
DTSTAMP:20251119T093724Z
URL:https://krystal93.com/events/treetop-comedy-night/
SUMMARY:Treetop Comedy Night
DESCRIPTION:Treetop Comedy Night\nDescription:\nGet ready for a night of la
 ughs\, community\, and good spirits! High Altitude Comedy is teaming up wi
 th Breckenridge Distillery to host a comedy night benefiting Treetop Child
  Advocacy Center.\n\nEnjoy craft cocktails and world-class whiskey while s
 ome of Summit County's funniest comedians take the stage to bring the laug
 hs. More than just a comedy show\, this is an evening with purpose—every
  ticket helps support Treetop’s mission to protect and empower children 
 in need.\n\nDoors open at 6 PM\, show begins at 7 PM.\nPlanning to eat? Th
 e Distillery is offering 15% off dinner for attendees who reserve a table 
 that night.\n\nWhether you’re a local or just visiting the mountains\, c
 ome join us for a night where you can cut loose\, laugh hard\, and make a 
 difference.\n\nDates: 2025-11-22 - 2025-11-22\n\nTime: 6:00pm-9:00pm\n\n
 Website: https://events.humanitix.com/treetop-comedy-night-at-the-distill
 ery\n\nEvent Location:\nBreckenridge Distillery\n1925 Airport rd\nBreckeri
 dge\, Co 80424
END:VEVENT
BEGIN:VTIMEZONE
TZID:America/Denver
X-LIC-LOCATION:America/Denver
BEGIN:STANDARD
DTSTART:20251102T010000
TZOFFSETFROM:-0600
TZOFFSETTO:-0700
TZNAME:MST
END:STANDARD
END:VTIMEZONE
END:VCALENDAR