BEGIN:VCALENDAR
VERSION:2.0
PRODID:-//wp-events-plugin.com//7.2.3.1//EN
TZID:America/Denver
X-WR-TIMEZONE:America/Denver
BEGIN:VEVENT
UID:628@krystal93.com
DTSTART;TZID=America/Denver:20230622T180000
DTEND;TZID=America/Denver:20230622T213000
DTSTAMP:20230601T025706Z
URL:https://krystal93.com/events/trevor-hall-the-great-inbetween/
SUMMARY:Trevor Hall & The Great Inbetween
DESCRIPTION:The Town of Dillon has a great series of concerts at the Dillon
  Amphitheater. Trevor Hall &amp\; The Great Inbetween\, plus the Californi
 a Honedyrops will be there June 22 at 6pm.  For more information go to ww
 w.dillonamphitheater.com
CATEGORIES:Dillon Amphitheater
END:VEVENT
BEGIN:VTIMEZONE
TZID:America/Denver
X-LIC-LOCATION:America/Denver
BEGIN:DAYLIGHT
DTSTART:20230312T030000
TZOFFSETFROM:-0700
TZOFFSETTO:-0600
TZNAME:MDT
END:DAYLIGHT
END:VTIMEZONE
END:VCALENDAR