BEGIN:VCALENDAR
VERSION:2.0
PRODID:-//wp-events-plugin.com//7.2.3.1//EN
TZID:America/Denver
X-WR-TIMEZONE:America/Denver
BEGIN:VEVENT
UID:19@krystal93.com
DTSTART;TZID=America/Denver:20220628T183000
DTEND;TZID=America/Denver:20220628T223000
DTSTAMP:20211227T202527Z
URL:https://krystal93.com/events/trombone-shorty-orleans-avenue/
SUMMARY:Trombone Shorty & Orleans Avenue
DESCRIPTION:Troy Andrews (born January 2\, 1986)\, also known by the stage 
 name Trombone Shorty\, is an American musician\, producer\, actor and phil
 anthropist from New Orleans\, Louisiana. He is best known as a trombone an
 d trumpet player but also plays drums\, organ\, and tuba. He has worked wi
 th some of the biggest names in rock\, pop\, jazz\, funk\, and hip hop. An
 drews is the younger brother of trumpeter and bandleader James Andrews and
  the grandson of singer and songwriter Jessie Hill. Other musical family m
 embers are cousins Glen David Andrews and the late Travis "Trumpet Black" 
 Hill. Andrews began playing trombone at age four\, and since 2009 has tour
 ed with his own band\, Trombone Shorty &amp\; Orleans Avenue.
CATEGORIES:Concerts
LOCATION:Red Rocks Amphitheatre\, 18300 West Alameda Parkway\, Morrison\, C
 olorado\, 80465\, United States
X-APPLE-STRUCTURED-LOCATION;VALUE=URI;X-ADDRESS=18300 West Alameda Parkway\
 , Morrison\, Colorado\, 80465\, United States;X-APPLE-RADIUS=100;X-TITLE=R
 ed Rocks Amphitheatre:geo:0,0
END:VEVENT
BEGIN:VTIMEZONE
TZID:America/Denver
X-LIC-LOCATION:America/Denver
BEGIN:DAYLIGHT
DTSTART:20220313T030000
TZOFFSETFROM:-0700
TZOFFSETTO:-0600
TZNAME:MDT
END:DAYLIGHT
END:VTIMEZONE
END:VCALENDAR