BEGIN:VCALENDAR
VERSION:2.0
PRODID:-//wp-events-plugin.com//7.2.3.1//EN
TZID:America/Denver
X-WR-TIMEZONE:America/Denver
BEGIN:VEVENT
UID:1812@krystal93.com
DTSTART;TZID=America/Denver:20260212T164500
DTEND;TZID=America/Denver:20260212T180000
DTSTAMP:20260203T030749Z
URL:https://krystal93.com/events/tubing-18/
SUMMARY:Tubing (18+)
DESCRIPTION:THURSDAY\, FEBRUARY 12\, 2026\nTubing at Frisco Adventure Park 
 | Adults Only\, Ages 18+\n4:45 pm - 6:00 pm / Frisco \nCome on down to Fri
 sco for a fun night of tubing!\nThis event is intended for Summit County r
 esidents only. This will be an adult only event (Ages 18+).\nEvent Facilit
 ated in English.\nGo to buildinghopesummit.org to sign up and for more det
 ails.
CATEGORIES:Building Hope Summit County
END:VEVENT
BEGIN:VTIMEZONE
TZID:America/Denver
X-LIC-LOCATION:America/Denver
BEGIN:STANDARD
DTSTART:20251102T010000
TZOFFSETFROM:-0600
TZOFFSETTO:-0700
TZNAME:MST
END:STANDARD
END:VTIMEZONE
END:VCALENDAR