BEGIN:VCALENDAR
VERSION:2.0
PRODID:-//wp-events-plugin.com//7.2.3.1//EN
TZID:America/Denver
X-WR-TIMEZONE:America/Denver
BEGIN:VEVENT
UID:692@krystal93.com
DTSTART;TZID=America/Denver:20230802T080000
DTEND;TZID=America/Denver:20230802T180000
DTSTAMP:20230801T012837Z
URL:https://krystal93.com/events/tww-the-national-more/
SUMMARY:TWW - The National & More
DESCRIPTION:Listen to Krystal 93 and you'll have a chance to win hot concer
 t tickets to The National at Red Rocks on August 11 and Father John Misty 
 with The Head and the Heart on August 15 at the Gerald Ford Amphitheater. 
  Listen all day long and when you get the cue\, call in to 970-513-9300 t
 o win tickets! Ticket Window Wednesday is brought to you by Greer's Applia
 nce Center.
CATEGORIES:Tickets giveaway
END:VEVENT
BEGIN:VTIMEZONE
TZID:America/Denver
X-LIC-LOCATION:America/Denver
BEGIN:DAYLIGHT
DTSTART:20230312T030000
TZOFFSETFROM:-0700
TZOFFSETTO:-0600
TZNAME:MDT
END:DAYLIGHT
END:VTIMEZONE
END:VCALENDAR