BEGIN:VCALENDAR
VERSION:2.0
PRODID:-//wp-events-plugin.com//7.2.3.1//EN
TZID:America/Denver
X-WR-TIMEZONE:America/Denver
BEGIN:VEVENT
UID:1889@krystal93.com
DTSTART;TZID=America/Denver:20260409T170000
DTEND;TZID=America/Denver:20260409T190000
DTSTAMP:20260329T133217Z
URL:https://krystal93.com/events/ukrainian-egg-decorating/
SUMMARY:Ukrainian Egg Decorating
DESCRIPTION:THURSDAY\, APRIL 9\, 2026\nPysanky: Ukrainian Egg Decorating\n5
 :00-7:00pm / Breckenridge\nEnjoy an evening learning the special technique
  of\nPysanky\, the Ukrainian tradition of decorating and\ndyeing eggs usin
 g a wax resist method. The eggs you\ncreate will be heirlooms you can enjo
 y for years to come.\nThis event is intended for Summit County residents o
 nly. Ages 11-18.\nEvent Facilitated in English. \nCONTACT BuildingHopeSum
 mit.org for more information and to sign up.
CATEGORIES:Building Hope Summit County
END:VEVENT
BEGIN:VTIMEZONE
TZID:America/Denver
X-LIC-LOCATION:America/Denver
BEGIN:DAYLIGHT
DTSTART:20260308T030000
TZOFFSETFROM:-0700
TZOFFSETTO:-0600
TZNAME:MDT
END:DAYLIGHT
END:VTIMEZONE
END:VCALENDAR