BEGIN:VCALENDAR
VERSION:2.0
PRODID:-//wp-events-plugin.com//7.2.3.1//EN
TZID:America/Denver
X-WR-TIMEZONE:America/Denver
BEGIN:VEVENT
UID:1762@krystal93.com
DTSTART;TZID=America/Denver:20251218T000000
DTEND;TZID=America/Denver:20251220T000000
DTSTAMP:20251202T134137Z
URL:https://krystal93.com/events/ullr-fest/
SUMMARY:ULLR Fest
DESCRIPTION:ULLR Fest is coming Thursday\, December 18 through Saturday\, 
 the 20th in Breckenridge. Help reclaim the unofficial world record for lo
 ngest shotski\, then keep the snow dance going at the legendary ULLR Para
 de and Bonfire. The celebration goes on into the weekend with the Rockstar
  Energy Open\, Film Screenings\, Live Concerts and more! Register a float 
 in the ULLR parade for a chance to win $2\,000! Visit GoBreck.com for de
 tails.  
END:VEVENT
BEGIN:VTIMEZONE
TZID:America/Denver
X-LIC-LOCATION:America/Denver
BEGIN:STANDARD
DTSTART:20251102T010000
TZOFFSETFROM:-0600
TZOFFSETTO:-0700
TZNAME:MST
END:STANDARD
END:VTIMEZONE
END:VCALENDAR