BEGIN:VCALENDAR
VERSION:2.0
PRODID:-//wp-events-plugin.com//7.2.3.1//EN
TZID:America/Denver
X-WR-TIMEZONE:America/Denver
BEGIN:VEVENT
UID:1310@krystal93.com
DTSTART;TZID=America/Denver:20241214T123000
DTEND;TZID=America/Denver:20241214T140000
DTSTAMP:20241201T234105Z
URL:https://krystal93.com/events/ullr-ice-skating/
SUMMARY:Ullr Ice Skating
DESCRIPTION:Ullr Ice Skating Party\nGlide\, twirl\, and skate at an ice ska
 ting celebration for Ullr!  Bring the kids for an afternoon of skating an
 d fun. Skate rentals are available in figure and hockey skates.  The ice 
 rink also offers skating aids to enhance stability for any skater who need
 s it.\n\nTime: 12:30pm – 2:00pm\nLocation: Stephen C. West Ice Arena\n
 Cost: Adults: $13\, Youth/Senior: $10. Free Skate Rental with any Admissi
 on
END:VEVENT
BEGIN:VTIMEZONE
TZID:America/Denver
X-LIC-LOCATION:America/Denver
BEGIN:STANDARD
DTSTART:20241103T010000
TZOFFSETFROM:-0600
TZOFFSETTO:-0700
TZNAME:MST
END:STANDARD
END:VTIMEZONE
END:VCALENDAR