BEGIN:VCALENDAR
VERSION:2.0
PRODID:-//wp-events-plugin.com//7.2.3.1//EN
TZID:America/Denver
X-WR-TIMEZONE:America/Denver
BEGIN:VEVENT
UID:627@krystal93.com
DTSTART;TZID=America/Denver:20230615T180000
DTEND;TZID=America/Denver:20230615T213000
DTSTAMP:20230601T025504Z
URL:https://krystal93.com/events/umphreys-mcgee-dillon-amp/
SUMMARY:Umphrey's McGee -Dillon Amp
DESCRIPTION:The Town of Dillon has a great series of concerts at the Dillon
  Amphitheater. Umphrey's McGee will be there June 15 at 6pm.  For more in
 formation go to www.dillonamphitheater.com
CATEGORIES:Dillon Amphitheater
END:VEVENT
BEGIN:VTIMEZONE
TZID:America/Denver
X-LIC-LOCATION:America/Denver
BEGIN:DAYLIGHT
DTSTART:20230312T030000
TZOFFSETFROM:-0700
TZOFFSETTO:-0600
TZNAME:MDT
END:DAYLIGHT
END:VTIMEZONE
END:VCALENDAR