BEGIN:VCALENDAR
VERSION:2.0
PRODID:-//wp-events-plugin.com//7.2.3.1//EN
TZID:America/Denver
X-WR-TIMEZONE:America/Denver
BEGIN:VEVENT
UID:726@krystal93.com
DTSTART;TZID=America/Denver;VALUE=DATE:20230908
DTEND;TZID=America/Denver;VALUE=DATE:20230911
DTSTAMP:20230831T044314Z
URL:https://krystal93.com/events/union-peak-festival-2/
SUMMARY:Union Peak Festival
DESCRIPTION:\nUNION PEAK FESTIVAL: COMMUNITY | ART | SPORT\nSeptember 8-10
 \, 2023\nGet ready to end summer on the highest note at the 3rd annual Uni
 on Peak Festival (UP Fest)\, a convergence of community\, art\, &amp\; spo
 rt is on the way September 8th-10th! With free\, live musical performance
 s by artists including Spoon\, Fitz and the Tantrums\, and Quinn XCII\, pl
 us live art and complimentary sports clinics\, this festival is set to be 
 the ultimate celebration of the mountain athlete.\nCheck out the full week
 end or daily VIP passes for front of stage viewing\, exclusive lounge\, 
 daily drink tickets\, a Union Peak Festival YETI 12oz. Colster® Can Coole
 r\, Union Peak Festival flannel\, and more!\n\n
END:VEVENT
BEGIN:VTIMEZONE
TZID:America/Denver
X-LIC-LOCATION:America/Denver
BEGIN:DAYLIGHT
DTSTART:20230312T030000
TZOFFSETFROM:-0700
TZOFFSETTO:-0600
TZNAME:MDT
END:DAYLIGHT
END:VTIMEZONE
END:VCALENDAR