BEGIN:VCALENDAR
VERSION:2.0
PRODID:-//wp-events-plugin.com//7.2.3.1//EN
TZID:America/Denver
X-WR-TIMEZONE:America/Denver
BEGIN:VEVENT
UID:1676@krystal93.com
DTSTART;TZID=America/Denver:20250806T180000
DTEND;TZID=America/Denver:20250806T200000
DTSTAMP:20250804T202219Z
URL:https://krystal93.com/events/unsheltered-in-summit-open-house/
SUMMARY:Unsheltered in Summit Open House
DESCRIPTION:You’re invited to join Unsheltered in Summit for an Open Hous
 e for the Summit Safe Parking Program— Wednesday\, August 6 from 6 to 8 
 PM\, at the County Commons Library Parking Lot\, on Peak One Drive in Fris
 co. You’ll meet program members\, explore their living setups\, and lear
 n how this program supports local working individuals living in their vehi
 cles. And there's refreshments and music. Visit unshelteredsummit.org for 
 more information.  
END:VEVENT
BEGIN:VTIMEZONE
TZID:America/Denver
X-LIC-LOCATION:America/Denver
BEGIN:DAYLIGHT
DTSTART:20250309T030000
TZOFFSETFROM:-0700
TZOFFSETTO:-0600
TZNAME:MDT
END:DAYLIGHT
END:VTIMEZONE
END:VCALENDAR