BEGIN:VCALENDAR
VERSION:2.0
PRODID:-//wp-events-plugin.com//7.2.3.1//EN
TZID:America/Denver
X-WR-TIMEZONE:America/Denver
BEGIN:VEVENT
UID:1845@krystal93.com
DTSTART;TZID=America/Denver:20260213T180000
DTEND;TZID=America/Denver:20260213T210000
DTSTAMP:20260204T220708Z
URL:https://krystal93.com/events/valentines-family-dance-fundraiser/
SUMMARY:Valentine's Family Dance Fundraiser
DESCRIPTION:On Friday\, February 13\, Timberline Learning Center will host 
 our Valentine's Family Dance Fundraiser\, a joyful\, family-centered event
  designed to strengthen community connections and support our mission of s
 erving local families. This family-friendly evening will include a DJ\, da
 ncing and games\, food\, and a fun "Selfie Station\," bringing together ch
 ildren\, families\, and educators to celebrate community while raising cri
 tical funds that directly support our early childhood programs.\nEvent Tim
 e *: 6pm -9pm\nEvent Location *: Breckenridge Recreation Center\nStreet Ad
 dress *: 880 Airport Road\nCity *: Breckenridge\nState *: CO\nZip Code *: 
 80424
CATEGORIES:Fundraiser
END:VEVENT
BEGIN:VTIMEZONE
TZID:America/Denver
X-LIC-LOCATION:America/Denver
BEGIN:STANDARD
DTSTART:20251102T010000
TZOFFSETFROM:-0600
TZOFFSETTO:-0700
TZNAME:MST
END:STANDARD
END:VTIMEZONE
END:VCALENDAR