BEGIN:VCALENDAR
VERSION:2.0
PRODID:-//wp-events-plugin.com//7.2.3.1//EN
TZID:America/Denver
X-WR-TIMEZONE:America/Denver
BEGIN:VEVENT
UID:1572@krystal93.com
DTSTART;TZID=America/Denver:20250707T160000
DTEND;TZID=America/Denver:20250707T180000
DTSTAMP:20250702T005224Z
URL:https://krystal93.com/events/vue-rooftop-party-with-tom-fricke/
SUMMARY:VUE Rooftop Party with Tom Fricke
DESCRIPTION:Join Krystal 93 for a party at Vue Rooftop in Dillon on Monday 
 July 7 from 4 to 6pm. Enjoy a great view\, drink specials and win some gre
 at prizes with Krystal 93’s Tom Fricke. This time he’ll be giving away
  tickets to see the Avett Brothers\, The String Cheese Incident\, and Indi
 go Girls\, all playing at Red Rocks this summer. Join us at VUE Rooftop on
  Monday July 7 for all the fun.  
CATEGORIES:Keystone
END:VEVENT
BEGIN:VTIMEZONE
TZID:America/Denver
X-LIC-LOCATION:America/Denver
BEGIN:DAYLIGHT
DTSTART:20250309T030000
TZOFFSETFROM:-0700
TZOFFSETTO:-0600
TZNAME:MDT
END:DAYLIGHT
END:VTIMEZONE
END:VCALENDAR